BEGIN:VCALENDAR
VERSION:2.0
PRODID:-//Along the Rado - ECPv6.15.20//NONSGML v1.0//EN
CALSCALE:GREGORIAN
METHOD:PUBLISH
X-ORIGINAL-URL:https://alongtherado.com
X-WR-CALDESC:Events for Along the Rado
REFRESH-INTERVAL;VALUE=DURATION:PT1H
X-Robots-Tag:noindex
X-PUBLISHED-TTL:PT1H
BEGIN:VTIMEZONE
TZID:America/Chicago
BEGIN:DAYLIGHT
TZOFFSETFROM:-0600
TZOFFSETTO:-0500
TZNAME:CDT
DTSTART:20230312T080000
END:DAYLIGHT
BEGIN:STANDARD
TZOFFSETFROM:-0500
TZOFFSETTO:-0600
TZNAME:CST
DTSTART:20231105T070000
END:STANDARD
BEGIN:DAYLIGHT
TZOFFSETFROM:-0600
TZOFFSETTO:-0500
TZNAME:CDT
DTSTART:20240310T080000
END:DAYLIGHT
BEGIN:STANDARD
TZOFFSETFROM:-0500
TZOFFSETTO:-0600
TZNAME:CST
DTSTART:20241103T070000
END:STANDARD
BEGIN:DAYLIGHT
TZOFFSETFROM:-0600
TZOFFSETTO:-0500
TZNAME:CDT
DTSTART:20250309T080000
END:DAYLIGHT
BEGIN:STANDARD
TZOFFSETFROM:-0500
TZOFFSETTO:-0600
TZNAME:CST
DTSTART:20251102T070000
END:STANDARD
END:VTIMEZONE
BEGIN:VEVENT
DTSTART;TZID=America/Chicago:20240519T110000
DTEND;TZID=America/Chicago:20240519T170000
DTSTAMP:20260422T034134
CREATED:20240513T132911Z
LAST-MODIFIED:20240513T132911Z
UID:1598-1716116400-1716138000@alongtherado.com
SUMMARY:Smithville Volunteer Fire Department's Annual BBQ and Auction
DESCRIPTION:Gather your family and friends for the Smithville Volunteer Fire Department’s Annual BBQ and Auction at the scenic Vernon J. Richards Riverbend Park. Celebrate over a century of service with our local heroes who have been supporting the Smithville area since 1895. \nDelight in a delectable spread of fried chicken and sausage bar-b-q\, masterfully prepared by our dedicated firefighters. The festivities kick off with food service at 11 am\, offering a perfect opportunity to enjoy a delicious meal in the great outdoors. \nThe excitement continues at 1 pm with our annual auction. Bid on an array of items\, with all proceeds directly benefiting the Smithville Volunteer Fire Department. This event is not only a chance to enjoy great food and find unique items but also a way to give back and support the essential services provided by our firefighters. \nDon’t miss this chance to connect with the community\, enjoy a day in the park\, and show your support for the Smithville Volunteer Fire Department. We’re looking forward to a day of fun\, food\, and fundraising. See you there!
URL:https://alongtherado.com/event/smithville-volunteer-fire-departments-annual-bbq-and-auction/
LOCATION:Vernon J. Richards Riverbend Park\, 107 TX-71\, Smithville\, TX\, 78957\, United States
CATEGORIES:Smithville
ATTACH;FMTTYPE=image/jpeg:https://alongtherado.com/wp-content/uploads/2024/05/Smithville-Fire-Department.jpg
END:VEVENT
BEGIN:VEVENT
DTSTART;TZID=America/Chicago:20240406T120000
DTEND;TZID=America/Chicago:20240407T000000
DTSTAMP:20260422T034134
CREATED:20240405T005618Z
LAST-MODIFIED:20240513T133740Z
UID:1429-1712404800-1712448000@alongtherado.com
SUMMARY:Smithville Jamboree Carnival: Spectacular Saturday Showdown!
DESCRIPTION:Cap off the Smithville Jamboree Carnival with a Spectacular Saturday Showdown\, where the excitement reaches its peak! From noon to midnight on April 7\, immerse yourself in a full day of fun\, adventure\, and community spirit. \nFor just $30\, get your hands on an unlimited ride armband at the carnival’s ticket booth and enjoy non-stop access to all your favorite rides. It’s a day and night filled with thrills\, laughter\, and joy\, perfect for families\, friends\, and thrill-seekers alike. \nTravel Made Easy: With free shuttle services from designated Park & Ride locations\, getting to and from the carnival is easier than ever. Let us take care of the logistics while you focus on having a great time! \nMore Than a Day of Fun: The Smithville Jamboree Carnival is a cornerstone of our community’s annual celebrations\, supported entirely by volunteers. Your participation helps fund scholarships and contribute to local organizations\, making a meaningful impact well beyond the carnival grounds. \nA Day to Remember: Saturday promises to be the best day yet\, with extended hours to maximize your fun. Experience the magic of the carnival under the stars\, create lasting memories\, and celebrate the spirit of Smithville in grand style. \nDon’t miss the climax of this year’s Smithville Jamboree Carnival. We can’t wait to see you there\, sharing in the joy\, the excitement\, and the unforgettable moments that only a day like this can offer.
URL:https://alongtherado.com/event/smithville-jamboree-carnival-spectacular-saturday-showdown/
LOCATION:Vernon J. Richards Riverbend Park\, 107 TX-71\, Smithville\, TX\, 78957\, United States
CATEGORIES:Smithville
ATTACH;FMTTYPE=image/png:https://alongtherado.com/wp-content/uploads/2024/04/Smithville-Jamboree-Carnival.png
END:VEVENT
BEGIN:VEVENT
DTSTART;TZID=America/Chicago:20240405T150000
DTEND;TZID=America/Chicago:20240405T230000
DTSTAMP:20260422T034134
CREATED:20240405T005301Z
LAST-MODIFIED:20240513T133758Z
UID:1427-1712329200-1712358000@alongtherado.com
SUMMARY:Smithville Jamboree Carnival: Fabulous Friday Festivities!
DESCRIPTION:The weekend starts early at the Smithville Jamboree Carnival with a Fabulous Friday that promises non-stop fun and excitement! Join us on April 6\, from 3:00 PM to 11:00 PM\, and dive into a world where the thrills are endless and the laughter is contagious. \nUnlock an entire evening of joy with a $30 unlimited ride armband\, available at the ticket booth. This special offer gives you and your loved ones access to all the rides you can handle\, ensuring that every moment is filled with fun. \nHassle-Free Transportation:\nEnjoy the convenience of our FREE shuttle service from the designated Park & Ride locations\, making your carnival experience seamless from start to finish. \nShuttle Service Schedule:\n\nFriday: From 6:00 PM to 12:30 AM\nSaturday: From 3:45 PM to 1:30 AM\n\nPick-up and Drop-off Locations:\n\nSmithville Elementary: Located at the corner of Wilkes and 8th\, this central location offers easy access for families and individuals coming from the heart of Smithville.\nRecreation Center: Situated at Hwy 95 and 204\, it’s an ideal spot for guests coming from the outskirts of town or neighboring areas.\n\nA Celebration with Heart:\nThe Smithville Jamboree Carnival isn’t just about the rides; it’s a vibrant expression of our community spirit\, brought to life by the dedication of our volunteers. By joining us\, you’re not only setting the stage for an unforgettable evening but also supporting local scholarships and community projects. Your fun is their gain\, enriching our community one ride at a time. \nExperience the Magic:\nDon’t miss out on this opportunity to kick off your weekend with a bang! Whether you’re a thrill-seeker or looking for a delightful evening out with the family\, Friday at the carnival has something special for everyone. \nWe’re excited to welcome you to Riverband Park for a night of fun\, laughter\, and community celebration. Let’s make this Friday a day to remember at the Smithville Jamboree Carnival!
URL:https://alongtherado.com/event/smithville-jamboree-carnival-fabulous-friday-festivities/
LOCATION:Vernon J. Richards Riverbend Park\, 107 TX-71\, Smithville\, TX\, 78957\, United States
CATEGORIES:Smithville
END:VEVENT
BEGIN:VEVENT
DTSTART;TZID=America/Chicago:20240404T170000
DTEND;TZID=America/Chicago:20240404T230000
DTSTAMP:20260422T034134
CREATED:20240405T004909Z
LAST-MODIFIED:20240513T133831Z
UID:1423-1712250000-1712271600@alongtherado.com
SUMMARY:Smithville Jamboree Carnival: Thrilling Thursday Fun!
DESCRIPTION:Step right up for the second day of the Smithville Jamboree Carnival\, where the fun intensifies and the lights shine brighter! Join us on Thursday\, April 5\, from 5:00 PM to 11:00 PM\, for an evening that promises even more laughter\, excitement\, and unforgettable moments. \nFor an unbeatable price of $25\, you can secure an unlimited ride armband at the ticket booth\, granting you access to endless fun and thrills. Whether you’re revisiting your favorite rides or exploring new attractions\, Thursday’s lineup is designed to deliver maximum enjoyment for all ages. \nEffortless Transportation: Forget the parking woes with our complimentary shuttle service from convenient Park & Ride locations. We’re here to ensure your journey to and from the carnival is as smooth as the rides. \nMore Than Just a Carnival: The Smithville Jamboree Carnival embodies the heart of our community\, supported by the dedication of countless volunteers. Your participation not only guarantees an evening of joy but also aids in funding local scholarships and various community organizations. It’s fun with a purpose – enhancing our community one ride at a time. \nBe Part of the Magic: This Thursday\, immerse yourself in the vibrant atmosphere of the Smithville Jamboree Carnival. Seize the opportunity to create new memories\, enjoy the camaraderie\, and soak in the joyous energy that only a hometown carnival can provide. \nWe look forward to sharing this special evening with you. Let’s light up the night with smiles\, excitement\, and community pride at Riverband Park!
URL:https://alongtherado.com/event/smithville-jamboree-carnival-thrilling-thursday-fun/
LOCATION:Vernon J. Richards Riverbend Park\, 107 TX-71\, Smithville\, TX\, 78957\, United States
CATEGORIES:Smithville
ATTACH;FMTTYPE=image/png:https://alongtherado.com/wp-content/uploads/2024/04/Smithville-Jamboree-Carnival.png
END:VEVENT
BEGIN:VEVENT
DTSTART;TZID=America/Chicago:20240403T180000
DTEND;TZID=America/Chicago:20240403T220000
DTSTAMP:20260422T034134
CREATED:20240405T004553Z
LAST-MODIFIED:20240513T133910Z
UID:1419-1712167200-1712181600@alongtherado.com
SUMMARY:Smithville Jamboree Carnival: A Wednesday to Remember!
DESCRIPTION:Dive into the heart of Smithville’s community spirit at the opening day of the Smithville Jamboree Carnival! This cherished tradition kicks off with an evening filled with boundless joy\, laughter\, and thrilling rides. For just $25\, you can grab an unlimited ride armband at the ticket booth\, giving you free reign over a world of excitement and adventure from 6:00 PM to 10:00 PM. \nThe Smithville Jamboree\, a beacon of community and celebration for over half a century\, begins its carnival segment with a bang! Whether you’re a thrill-seeker\, a fan of classic carnival games\, or just looking for a memorable night out with family and friends\, Wednesday’s event is the perfect start. \nConvenient Access & More: Worried about parking? We’ve got you covered with our FREE shuttle service from designated Park & Ride locations\, ensuring your visit is hassle-free right from the start. \nA Celebration with a Cause: Remember\, the Smithville Jamboree Carnival is more than just fun and games. It’s a community effort led by dedicated volunteers\, with proceeds supporting local scholarships and organizations. By joining us\, you’re not just enjoying an unforgettable evening; you’re also contributing to the well-being of our community. \nDon’t Miss Out! Mark your calendar for Wednesday\, April 4\, and be part of the tradition that brings smiles\, excitement\, and community spirit to Smithville. Grab your unlimited ride armband\, enjoy the rides\, and make memories that will last a lifetime. \nWe can’t wait to see you there and kick off the Smithville Jamboree Carnival in style!
URL:https://alongtherado.com/event/smithville-jamboree-carnival-a-wednesday-to-remember/
LOCATION:Vernon J. Richards Riverbend Park\, 107 TX-71\, Smithville\, TX\, 78957\, United States
CATEGORIES:Smithville
ATTACH;FMTTYPE=image/png:https://alongtherado.com/wp-content/uploads/2024/04/Smithville-Jamboree-Carnival.png
END:VEVENT
END:VCALENDAR